BEGIN:VCALENDAR
PRODID:-//eluceo/ical//2.0/EN
VERSION:2.0
CALSCALE:GREGORIAN
BEGIN:VEVENT
UID:e4ab039c1476fb1027ba54c90cd6407c
DTSTAMP:20260422T054049Z
SUMMARY:JFGN Closed
DESCRIPTION:Jewish Federation of Greater Naples\nCommunity Calendar\nhttps:
 //jewishnaples.org/calendar/jfgn-closed-1661272429\n\nJFGN Closed
DTSTART;TZID=America/New_York:20230529T090000
DTEND;TZID=America/New_York:20230529T170000
END:VEVENT
END:VCALENDAR
