BEGIN:VCALENDAR
PRODID:-//eluceo/ical//2.0/EN
VERSION:2.0
CALSCALE:GREGORIAN
BEGIN:VEVENT
UID:72b74e41d35f039328eae6a5dc24c6e0
DTSTAMP:20260424T163546Z
SUMMARY:JFGN Closed
DESCRIPTION:Jewish Federation of Greater Naples\nCommunity Calendar\nhttps:
 //jewishnaples.org/calendar/jfgn-closed-1659983411\n\nClosed for Passover
DTSTART;TZID=America/New_York:20230412T080000
DTEND;TZID=America/New_York:20230413T170000
END:VEVENT
END:VCALENDAR
