BEGIN:VCALENDAR
PRODID:-//eluceo/ical//2.0/EN
VERSION:2.0
CALSCALE:GREGORIAN
BEGIN:VEVENT
UID:fe28cb59a00132d58aa3ce66a6194e1b
DTSTAMP:20260420T173439Z
SUMMARY:JFGN Closed
DESCRIPTION:Jewish Federation of Greater Naples\nCommunity Calendar\nhttps:
 //jewishnaples.org/calendar/jfgn-closed-1649703061\n\nClosed for Thanksgiv
 ing
DTSTART;TZID=America/New_York:20221124T090000
DTEND;TZID=America/New_York:20221125T170000
END:VEVENT
END:VCALENDAR
