BEGIN:VCALENDAR
PRODID:-//eluceo/ical//2.0/EN
VERSION:2.0
CALSCALE:GREGORIAN
BEGIN:VEVENT
UID:3875f1334d9a0e4925df0b376e46dc41
DTSTAMP:20260424T062239Z
SUMMARY:JFGN closed
DESCRIPTION:Jewish Federation of Greater Naples\nCommunity Calendar\nhttps:
 //jewishnaples.org/calendar/jfgn-closed-1617998502\n\nJFGN closed
DTSTART;TZID=America/New_York:20211224T080000
DTEND;TZID=America/New_York:20211224T170000
END:VEVENT
END:VCALENDAR
