BEGIN:VCALENDAR
PRODID:-//eluceo/ical//2.0/EN
VERSION:2.0
CALSCALE:GREGORIAN
BEGIN:VEVENT
UID:b97f49fb72d9a01751ff192760217ff0
DTSTAMP:20260421T013517Z
SUMMARY:JFGN Closed
DESCRIPTION:Jewish Federation of Greater Naples\nCommunity Calendar\nhttps:
 //jewishnaples.org/calendar/jfgn-closed-1617998341\n\nJFGN Closed
DTSTART;TZID=America/New_York:20210916T080000
DTEND;TZID=America/New_York:20210916T170000
END:VEVENT
END:VCALENDAR
