BEGIN:VCALENDAR
PRODID:-//eluceo/ical//2.0/EN
VERSION:2.0
CALSCALE:GREGORIAN
BEGIN:VEVENT
UID:6bdf752a88c7d909992bf34999fa0ba3
DTSTAMP:20260424T002240Z
SUMMARY:JFGN Closed
DESCRIPTION:Jewish Federation of Greater Naples\nCommunity Calendar\nhttps:
 //jewishnaples.org/calendar/jfgn-closed-1617998277\n\nJFGN closed
DTSTART;TZID=America/New_York:20210906T080000
DTEND;TZID=America/New_York:20210908T170000
END:VEVENT
END:VCALENDAR
