BEGIN:VCALENDAR
PRODID:-//eluceo/ical//2.0/EN
VERSION:2.0
CALSCALE:GREGORIAN
BEGIN:VEVENT
UID:c9406e1bae4c96dbfc845dc1eafe7d82
DTSTAMP:20260423T150207Z
SUMMARY:JFGN Closed
DESCRIPTION:Jewish Federation of Greater Naples\nCommunity Calendar\nhttps:
 //jewishnaples.org/calendar/jfgn-closed-1585150666\n\nJFGN closed for the 
 Holiday.
DTSTART;TZID=America/New_York:20210517T080000
DTEND;TZID=America/New_York:20210518T170000
END:VEVENT
END:VCALENDAR
