BEGIN:VCALENDAR
PRODID:-//eluceo/ical//2.0/EN
VERSION:2.0
CALSCALE:GREGORIAN
BEGIN:VEVENT
UID:886ea1b78d9f8f001dbe12d2fbb2d91c
DTSTAMP:20260420T162717Z
SUMMARY:JFGN Closed
DESCRIPTION:Jewish Federation of Greater Naples\nCommunity Calendar\nhttps:
 //jewishnaples.org/calendar/jfgn-closed-1585148067\n\nJFGN closes early on
  the 2nd and is closed on the 3rd & 4th.
DTSTART;TZID=America/New_York:20210402T080000
DTEND;TZID=America/New_York:20210404T200000
END:VEVENT
END:VCALENDAR
