BEGIN:VCALENDAR
PRODID:-//eluceo/ical//2.0/EN
VERSION:2.0
CALSCALE:GREGORIAN
BEGIN:VEVENT
UID:b16ab24d61638142f1c9848562e3377d
DTSTAMP:20260424T034045Z
SUMMARY:JFGN Closed
DESCRIPTION:Jewish Federation of Greater Naples\nCommunity Calendar\nhttps:
 //jewishnaples.org/calendar/jfgn-closed-1585147731\n\nJFGN closes early on
  the 9th and is closed on the 10th & 11th for the Holidays.
DTSTART;TZID=America/New_York:20201010T080000
DTEND;TZID=America/New_York:20201011T200000
END:VEVENT
END:VCALENDAR
