BEGIN:VCALENDAR
PRODID:-//eluceo/ical//2.0/EN
VERSION:2.0
CALSCALE:GREGORIAN
BEGIN:VEVENT
UID:9339672b93973d61ddb7896e40298208
DTSTAMP:20260420T014242Z
SUMMARY:JFGN CLOSED
DESCRIPTION:Jewish Federation of Greater Naples\nCommunity Calendar\nhttps:
 //jewishnaples.org/calendar/jfgn-closed-1561037284\n\nJFGN Office closed f
 or Passover
DTSTART;TZID=America/New_York:20200408T120000
DTEND;TZID=America/New_York:20200412T170000
END:VEVENT
END:VCALENDAR
