BEGIN:VCALENDAR
PRODID:-//eluceo/ical//2.0/EN
VERSION:2.0
CALSCALE:GREGORIAN
BEGIN:VEVENT
UID:52e153dd73e5cfead75067cfa533a6c6
DTSTAMP:20260419T231647Z
SUMMARY:JFGN closed
DESCRIPTION:Jewish Federation of Greater Naples\nCommunity Calendar\nhttps:
 //jewishnaples.org/calendar/jfgn-closed-1559756224\n\nOffices closed
DTSTART;TZID=America/New_York:20190930T080000
DTEND;TZID=America/New_York:20190930T170000
END:VEVENT
END:VCALENDAR
