BEGIN:VCALENDAR
PRODID:-//eluceo/ical//2.0/EN
VERSION:2.0
CALSCALE:GREGORIAN
BEGIN:VEVENT
UID:c02e99abd5b7f809f7b7f8bce7b1d5f4
DTSTAMP:20260420T202845Z
SUMMARY:JFGN Closed
DESCRIPTION:Jewish Federation of Greater Naples\nCommunity Calendar\nhttps:
 //jewishnaples.org/calendar/jfgn-closed-1559754996\n\nOffices closed
DTSTART;TZID=America/New_York:20190705T080000
DTEND;TZID=America/New_York:20190705T170000
END:VEVENT
END:VCALENDAR
