BEGIN:VCALENDAR
PRODID:-//eluceo/ical//2.0/EN
VERSION:2.0
CALSCALE:GREGORIAN
BEGIN:VEVENT
UID:dafe4b7ba622f51182435c158f02e124
DTSTAMP:20260421T183353Z
SUMMARY:JFGN Closed
DESCRIPTION:Jewish Federation of Greater Naples\nCommunity Calendar\nhttps:
 //jewishnaples.org/calendar/jfgn-closed-1526664074\n\nJFGN Closed
DTSTART;TZID=America/New_York:20190610T080000
DTEND;TZID=America/New_York:20190610T170000
END:VEVENT
END:VCALENDAR
