BEGIN:VCALENDAR
PRODID:-//eluceo/ical//2.0/EN
VERSION:2.0
CALSCALE:GREGORIAN
BEGIN:VEVENT
UID:c68f23514a0f67d9999c40ce7814ee61
DTSTAMP:20260423T102445Z
SUMMARY:JFGN Close at Noon
DESCRIPTION:Jewish Federation of Greater Naples\nCommunity Calendar\nhttps:
 //jewishnaples.org/calendar/jfgn-close-at-noon-1740233441\n\nJFGN Close at
  Noon
DTSTART;TZID=America/New_York:20260521T120000
DTEND;TZID=America/New_York:20260521T220000
END:VEVENT
END:VCALENDAR
