BEGIN:VCALENDAR
PRODID:-//eluceo/ical//2.0/EN
VERSION:2.0
CALSCALE:GREGORIAN
BEGIN:VEVENT
UID:21813fac2da5155f08ab110f3bf8089f
DTSTAMP:20260424T043225Z
SUMMARY:JFGN Close at Noon
DESCRIPTION:Jewish Federation of Greater Naples\nCommunity Calendar\nhttps:
 //jewishnaples.org/calendar/jfgn-close-at-noon-1740228247\n\nJFGN Closes a
 t Noon
DTSTART;TZID=America/New_York:20260407T120000
DTEND;TZID=America/New_York:20260407T220000
END:VEVENT
END:VCALENDAR
