BEGIN:VCALENDAR
PRODID:-//eluceo/ical//2.0/EN
VERSION:2.0
CALSCALE:GREGORIAN
BEGIN:VEVENT
UID:ef2be1549de16e16917d55fe0477de32
DTSTAMP:20260423T185155Z
SUMMARY:JFGN Close at Noon
DESCRIPTION:Jewish Federation of Greater Naples\nCommunity Calendar\nhttps:
 //jewishnaples.org/calendar/jfgn-close-at-noon-1740225515\n\nJFGN Close at
  Noon
DTSTART;TZID=America/New_York:20251126T120000
DTEND;TZID=America/New_York:20251126T210000
END:VEVENT
END:VCALENDAR
