BEGIN:VCALENDAR
PRODID:-//eluceo/ical//2.0/EN
VERSION:2.0
CALSCALE:GREGORIAN
BEGIN:VEVENT
UID:0ebf838f6fa0f3143d586323c296bb8e
DTSTAMP:20260422T233910Z
SUMMARY:JFGN Close at Noon
DESCRIPTION:Jewish Federation of Greater Naples\nCommunity Calendar\nhttps:
 //jewishnaples.org/calendar/jfgn-close-at-noon-1682021749\n\nClosed for Pa
 ssover
DTSTART;TZID=America/New_York:20240422T120000
DTEND;TZID=America/New_York:20240422T220000
END:VEVENT
END:VCALENDAR
