BEGIN:VCALENDAR
PRODID:-//eluceo/ical//2.0/EN
VERSION:2.0
CALSCALE:GREGORIAN
BEGIN:VEVENT
UID:2053cda96add9964cac579ec59bd7857
DTSTAMP:20260421T141023Z
SUMMARY:JFGN Chanukah Celebration at Mercato
DESCRIPTION:Jewish Federation of Greater Naples\nCommunity Calendar\nhttps:
 //jewishnaples.org/calendar/jfgn-chanukah-celebration-at-mercato\n\nThe en
 tire community is invited to the Chanukah Celebration at Mercato
DTSTART;TZID=America/New_York:20181203T170000
DTEND;TZID=America/New_York:20181203T183000
END:VEVENT
END:VCALENDAR
