BEGIN:VCALENDAR
PRODID:-//eluceo/ical//2.0/EN
VERSION:2.0
CALSCALE:GREGORIAN
BEGIN:VEVENT
UID:af8cae581a6842e224760fa958d92313
DTSTAMP:20260422T221815Z
SUMMARY:JFGN Chanukah Art Lesson
DESCRIPTION:Jewish Federation of Greater Naples\nCommunity Calendar\nhttps:
 //jewishnaples.org/calendar/jfgn-chanukah-art-lesson-1634226746\n\nJFGN Ar
 t lesson on Zoom
DTSTART;TZID=America/New_York:20211112T120000
DTEND;TZID=America/New_York:20211112T123000
END:VEVENT
END:VCALENDAR
