BEGIN:VCALENDAR
PRODID:-//eluceo/ical//2.0/EN
VERSION:2.0
CALSCALE:GREGORIAN
BEGIN:VEVENT
UID:da16f01e4b26c2298a325f7d9efe94c4
DTSTAMP:20260422T235005Z
SUMMARY:JFGN Cellist Amit Peled
DESCRIPTION:Jewish Federation of Greater Naples\nCommunity Calendar\nhttps:
 //jewishnaples.org/calendar/jfgn-cellist-amit-peled-1602713075\n\n“A Jew
 ish Journey Through Music”\n\nSunday\, November 22\n8:15 PM\, EST
DTSTART;TZID=America/New_York:20201122T201500
DTEND;TZID=America/New_York:20201122T210000
END:VEVENT
END:VCALENDAR
