BEGIN:VCALENDAR
PRODID:-//eluceo/ical//2.0/EN
VERSION:2.0
CALSCALE:GREGORIAN
BEGIN:VEVENT
UID:61217ce5dd779cedad385237b8842f82
DTSTAMP:20260423T011145Z
SUMMARY:JFGN Cardozo
DESCRIPTION:Jewish Federation of Greater Naples\nCommunity Calendar\nhttps:
 //jewishnaples.org/calendar/jfgn-cardozo-1626704806\n\nCardozo meets at Th
 e Pub
DTSTART;TZID=America/New_York:20211014T180000
DTEND;TZID=America/New_York:20211014T190000
END:VEVENT
END:VCALENDAR
