BEGIN:VCALENDAR
PRODID:-//eluceo/ical//2.0/EN
VERSION:2.0
CALSCALE:GREGORIAN
BEGIN:VEVENT
UID:c166e2d10dafd17c1a67155fcaad7481
DTSTAMP:20260424T075053Z
SUMMARY:JFGN Campaign Kickoff
DESCRIPTION:Jewish Federation of Greater Naples\nCommunity Calendar\nhttps:
 //jewishnaples.org/calendar/jfgn-campaign-kickoff\n\nJewish Federation of 
 Greater Naples\n\nCampaign Kickoff\n\n \n\nFeaturing Celebrity Rabbi\, TV
  Host and Author\, Rabbi Shmuley Boteach\n\n \n\nEnjoy a delightful eveni
 ng with Rabbi Shmuley Boteach\, as he highlights how our Jewish heritage\n
 uniquely energizes us to positively impact our world. See how your Jewish 
 Federation contributions\nimpact our local community\, Israel and 65 count
 ries around the world.\n\n\nCocktails\, hors d'oeuvres and dessert recepti
 on - $100 per person\n\n\nThis event ...
DTSTART;TZID=America/New_York:20181115T190000
DTEND;TZID=America/New_York:20181115T210000
END:VEVENT
END:VCALENDAR
