BEGIN:VCALENDAR
PRODID:-//eluceo/ical//2.0/EN
VERSION:2.0
CALSCALE:GREGORIAN
BEGIN:VEVENT
UID:bfeaf8da13405603342f51a40156b778
DTSTAMP:20260423T152415Z
SUMMARY:JFGN Borgen Discussion
DESCRIPTION:Jewish Federation of Greater Naples\nCommunity Calendar\nhttps:
 //jewishnaples.org/calendar/jfgn-borgen-discussion-1656604948\n\nWatch Bor
 gen and come together on Zoom to discuss
DTSTART;TZID=America/New_York:20220824T150000
DTEND;TZID=America/New_York:20220824T160000
END:VEVENT
END:VCALENDAR
