BEGIN:VCALENDAR
PRODID:-//eluceo/ical//2.0/EN
VERSION:2.0
CALSCALE:GREGORIAN
BEGIN:VEVENT
UID:471726baa602631ceead3c12a72255b7
DTSTAMP:20260423T123333Z
SUMMARY:JFGN Book talk author
DESCRIPTION:Jewish Federation of Greater Naples\nCommunity Calendar\nhttps:
 //jewishnaples.org/calendar/jfgn-book-talk-author-1625156112\n\nJFGN progr
 am on Zoom
DTSTART;TZID=America/New_York:20210816T120000
DTEND;TZID=America/New_York:20210816T130000
END:VEVENT
END:VCALENDAR
