BEGIN:VCALENDAR
PRODID:-//eluceo/ical//2.0/EN
VERSION:2.0
CALSCALE:GREGORIAN
BEGIN:VEVENT
UID:79a28d301818cb4fd8595b08d083e347
DTSTAMP:20260423T093212Z
SUMMARY:JFGN Book Festival Nov. 30
DESCRIPTION:Jewish Federation of Greater Naples\nCommunity Calendar\nhttps:
 //jewishnaples.org/calendar/jfgn-book-festival-nov-30-1649694830\n\nJewish
  Book Festival
DTSTART;TZID=America/New_York:20221130T120000
DTEND;TZID=America/New_York:20221130T130000
END:VEVENT
END:VCALENDAR
