BEGIN:VCALENDAR
PRODID:-//eluceo/ical//2.0/EN
VERSION:2.0
CALSCALE:GREGORIAN
BEGIN:VEVENT
UID:c62fbaf4dd479b985ac7d01bdcb2ce8e
DTSTAMP:20260423T200155Z
SUMMARY:JFGN Book Festival
DESCRIPTION:Jewish Federation of Greater Naples\nCommunity Calendar\nhttps:
 //jewishnaples.org/calendar/jfgn-book-festival-1597072797\n\nJFGN Book Fes
 tival
DTSTART;TZID=America/New_York:20201217T130000
DTEND;TZID=America/New_York:20201217T140000
END:VEVENT
END:VCALENDAR
