BEGIN:VCALENDAR
PRODID:-//eluceo/ical//2.0/EN
VERSION:2.0
CALSCALE:GREGORIAN
BEGIN:VEVENT
UID:f16c8a266f9cd73b2f39dab9bb2bd449
DTSTAMP:20260424T014128Z
SUMMARY:JFGN Book Festival
DESCRIPTION:Jewish Federation of Greater Naples\nCommunity Calendar\nhttps:
 //jewishnaples.org/calendar/jfgn-book-festival-1590678194\n\nSave the date
  for a Jewish Book Festival Program.
DTSTART;TZID=America/New_York:20210111T160000
DTEND;TZID=America/New_York:20210111T170000
END:VEVENT
END:VCALENDAR
