BEGIN:VCALENDAR
PRODID:-//eluceo/ical//2.0/EN
VERSION:2.0
CALSCALE:GREGORIAN
BEGIN:VEVENT
UID:f2196fc7745fc142d1f14179d7e27e99
DTSTAMP:20260420T104010Z
SUMMARY:JFGN Book Festival
DESCRIPTION:Jewish Federation of Greater Naples\nCommunity Calendar\nhttps:
 //jewishnaples.org/calendar/jfgn-book-festival-1590677985\n\nSave the date
  for a Jewish Book Festival Program.
DTSTART;TZID=America/New_York:20210315T130000
DTEND;TZID=America/New_York:20210315T140000
END:VEVENT
END:VCALENDAR
