BEGIN:VCALENDAR
PRODID:-//eluceo/ical//2.0/EN
VERSION:2.0
CALSCALE:GREGORIAN
BEGIN:VEVENT
UID:f789f7c2cd46f7e640c70f117b0e7062
DTSTAMP:20260423T143220Z
SUMMARY:JFGN Book Festival
DESCRIPTION:Jewish Federation of Greater Naples\nCommunity Calendar\nhttps:
 //jewishnaples.org/calendar/jfgn-book-festival-1590677220\n\nSave the date
  for a Jewish Book Festival program.
DTSTART;TZID=America/New_York:20210210T130000
DTEND;TZID=America/New_York:20210210T140000
END:VEVENT
END:VCALENDAR
