BEGIN:VCALENDAR
PRODID:-//eluceo/ical//2.0/EN
VERSION:2.0
CALSCALE:GREGORIAN
BEGIN:VEVENT
UID:1586b8a7d2b2123208931928b2ec2f46
DTSTAMP:20260421T021440Z
SUMMARY:JFGN Book Festival
DESCRIPTION:Jewish Federation of Greater Naples\nCommunity Calendar\nhttps:
 //jewishnaples.org/calendar/jfgn-book-festival-1590677014\n\nSave the date
  for a Jewish Book Festival program.
DTSTART;TZID=America/New_York:20210215T130000
DTEND;TZID=America/New_York:20210215T140000
END:VEVENT
END:VCALENDAR
