BEGIN:VCALENDAR
PRODID:-//eluceo/ical//2.0/EN
VERSION:2.0
CALSCALE:GREGORIAN
BEGIN:VEVENT
UID:5cc9254a2e2283262bdf9f88c29b8092
DTSTAMP:20260420T104020Z
SUMMARY:JFGN Book Festival
DESCRIPTION:Jewish Federation of Greater Naples\nCommunity Calendar\nhttps:
 //jewishnaples.org/calendar/jfgn-book-festival-1590675991\n\nSave the date
  for the Jewish Book Festival program!
DTSTART;TZID=America/New_York:20210129T100000
DTEND;TZID=America/New_York:20210129T120000
END:VEVENT
END:VCALENDAR
