BEGIN:VCALENDAR
PRODID:-//eluceo/ical//2.0/EN
VERSION:2.0
CALSCALE:GREGORIAN
BEGIN:VEVENT
UID:2ea099c9e35c23bc307ce599a9bdab41
DTSTAMP:20260422T224737Z
SUMMARY:JFGN Book Festival
DESCRIPTION:Jewish Federation of Greater Naples\nCommunity Calendar\nhttps:
 //jewishnaples.org/calendar/jfgn-book-festival-1590675945\n\nSave the date
  for the Jewish Book Festival program!
DTSTART;TZID=America/New_York:20210114T193000
DTEND;TZID=America/New_York:20210114T210000
END:VEVENT
END:VCALENDAR
