BEGIN:VCALENDAR
PRODID:-//eluceo/ical//2.0/EN
VERSION:2.0
CALSCALE:GREGORIAN
BEGIN:VEVENT
UID:419ecc9414184a0bc976c1a3defbb457
DTSTAMP:20260420T043843Z
SUMMARY:JFGN Book author talk with Estelle Rauch
DESCRIPTION:Jewish Federation of Greater Naples\nCommunity Calendar\nhttps:
 //jewishnaples.org/calendar/jfgn-book-author-talk-with-estelle-rauch-16841
 75456\n\nAuthor Estelle Rauch will discuss her books via Zoom
DTSTART;TZID=America/New_York:20230921T100000
DTEND;TZID=America/New_York:20230921T110000
END:VEVENT
END:VCALENDAR
