BEGIN:VCALENDAR
PRODID:-//eluceo/ical//2.0/EN
VERSION:2.0
CALSCALE:GREGORIAN
BEGIN:VEVENT
UID:1875882bad910ad052ecfa0df1166db2
DTSTAMP:20260423T020530Z
SUMMARY:JFGN Book Author: Ruth Rotkowitz
DESCRIPTION:Jewish Federation of Greater Naples\nCommunity Calendar\nhttps:
 //jewishnaples.org/calendar/jfgn-book-author-ruth-rotkowitz-1597688625\n\n
 Join us for an author event on zoom!
DTSTART;TZID=America/New_York:20201019T140000
DTEND;TZID=America/New_York:20201019T150000
END:VEVENT
END:VCALENDAR
