BEGIN:VCALENDAR
PRODID:-//eluceo/ical//2.0/EN
VERSION:2.0
CALSCALE:GREGORIAN
BEGIN:VEVENT
UID:49ca4b2c155ade9d26b823c85f2f230f
DTSTAMP:20260421T020837Z
SUMMARY:JFGN Board Mtg
DESCRIPTION:Jewish Federation of Greater Naples\nCommunity Calendar\nhttps:
 //jewishnaples.org/calendar/jfgn-board-mtg-1590140038\n\nJFGN Board Mtg ar
 e now at 7:00 PM \n\n \n\n \n\n 
DTSTART;TZID=America/New_York:20201110T190000
DTEND;TZID=America/New_York:20201110T210000
END:VEVENT
END:VCALENDAR
