BEGIN:VCALENDAR
PRODID:-//eluceo/ical//2.0/EN
VERSION:2.0
CALSCALE:GREGORIAN
BEGIN:VEVENT
UID:495344e628724107d7225fd76782244d
DTSTAMP:20260420T141335Z
SUMMARY:JFGN Board Meeting Nov
DESCRIPTION:Jewish Federation of Greater Naples\nCommunity Calendar\nhttps:
 //jewishnaples.org/calendar/jfgn-board-meeting-nov-1634067115\n\nJFGN
DTSTART;TZID=America/New_York:20211109T110000
DTEND;TZID=America/New_York:20211109T130000
END:VEVENT
END:VCALENDAR
