BEGIN:VCALENDAR
PRODID:-//eluceo/ical//2.0/EN
VERSION:2.0
CALSCALE:GREGORIAN
BEGIN:VEVENT
UID:60685cc4dafd1b8e1ce8f2b84db05d96
DTSTAMP:20260423T214910Z
SUMMARY:JFGN Board Meeting
DESCRIPTION:Jewish Federation of Greater Naples\nCommunity Calendar\nhttps:
 //jewishnaples.org/calendar/jfgn-board-meeting-1558021070\n\nJFGN Board Me
 eting
DTSTART;TZID=America/New_York:20191112T190000
DTEND;TZID=America/New_York:20191112T210000
END:VEVENT
END:VCALENDAR
