BEGIN:VCALENDAR
PRODID:-//eluceo/ical//2.0/EN
VERSION:2.0
CALSCALE:GREGORIAN
BEGIN:VEVENT
UID:41b9f11c868050c5a7562de98e7cec7f
DTSTAMP:20260423T232125Z
SUMMARY:JFGN Board Meeting
DESCRIPTION:Jewish Federation of Greater Naples\nCommunity Calendar\nhttps:
 //jewishnaples.org/calendar/jfgn-board-meeting-1558020724\n\nJFGN Board Me
 eting
DTSTART;TZID=America/New_York:20190910T190000
DTEND;TZID=America/New_York:20190910T210000
END:VEVENT
END:VCALENDAR
