BEGIN:VCALENDAR
PRODID:-//eluceo/ical//2.0/EN
VERSION:2.0
CALSCALE:GREGORIAN
BEGIN:VEVENT
UID:d3bc3188b8da99a765553604a26a2ae6
DTSTAMP:20260423T092431Z
SUMMARY:Bingo
DESCRIPTION:Jewish Federation of Greater Naples\nCommunity Calendar\nhttps:
 //jewishnaples.org/calendar/jfgn-bingo\n\nJoin us for a game or two of bin
 go! \n\nFUN Prizes will be given out to the winners.\n\nFree program for
  all members.\n\n \n\nRegister HERE\n\n 
DTSTART;TZID=America/New_York:20230831T140000
DTEND;TZID=America/New_York:20230831T150000
END:VEVENT
END:VCALENDAR
