BEGIN:VCALENDAR
PRODID:-//eluceo/ical//2.0/EN
VERSION:2.0
CALSCALE:GREGORIAN
BEGIN:VEVENT
UID:2929348ab79b2de7e10e908072d55f9a
DTSTAMP:20260422T081930Z
SUMMARY:JFGN Author Speaker Presentation
DESCRIPTION:Jewish Federation of Greater Naples\nCommunity Calendar\nhttps:
 //jewishnaples.org/calendar/jfgn-author-speaker-presentation-1639497646\n\
 nPlease read the weekly eblast for more information.
DTSTART;TZID=America/New_York:20220622T120000
DTEND;TZID=America/New_York:20220622T130000
END:VEVENT
END:VCALENDAR
