BEGIN:VCALENDAR
PRODID:-//eluceo/ical//2.0/EN
VERSION:2.0
CALSCALE:GREGORIAN
BEGIN:VEVENT
UID:8799be4b8e88f6f4362f946a1a3c86b9
DTSTAMP:20260424T055248Z
SUMMARY:JFGN Art Lesson
DESCRIPTION:Jewish Federation of Greater Naples\nCommunity Calendar\nhttps:
 //jewishnaples.org/calendar/jfgn-art-lesson-1618936945\n\nPlease register 
 for the free art lesson.
DTSTART;TZID=America/New_York:20210621T120000
DTEND;TZID=America/New_York:20210621T130000
END:VEVENT
END:VCALENDAR
