BEGIN:VCALENDAR
PRODID:-//eluceo/ical//2.0/EN
VERSION:2.0
CALSCALE:GREGORIAN
BEGIN:VEVENT
UID:d920c1e8c0c8bfd4bd44872cc7300ed2
DTSTAMP:20260424T073759Z
SUMMARY:JFGN Art Lesson
DESCRIPTION:Jewish Federation of Greater Naples\nCommunity Calendar\nhttps:
 //jewishnaples.org/calendar/jfgn-art-lesson-1598375254\n\nJFGN Art Lesson
DTSTART;TZID=America/New_York:20200923T130000
DTEND;TZID=America/New_York:20200923T133000
END:VEVENT
END:VCALENDAR
