BEGIN:VCALENDAR
PRODID:-//eluceo/ical//2.0/EN
VERSION:2.0
CALSCALE:GREGORIAN
BEGIN:VEVENT
UID:af6c45fdb40bc12d0dc16edaeff81394
DTSTAMP:20260423T091559Z
SUMMARY:JFGN Art History Program
DESCRIPTION:Jewish Federation of Greater Naples\nCommunity Calendar\nhttps:
 //jewishnaples.org/calendar/jfgn-art-history-program-1629815091\n\nJFGN Ar
 t History Program on Zoom
DTSTART;TZID=America/New_York:20211027T130000
DTEND;TZID=America/New_York:20211027T150000
END:VEVENT
END:VCALENDAR
