BEGIN:VCALENDAR
PRODID:-//eluceo/ical//2.0/EN
VERSION:2.0
CALSCALE:GREGORIAN
BEGIN:VEVENT
UID:1095af6de4b213d5e63cbf5f4d9c2f81
DTSTAMP:20260423T011821Z
SUMMARY:JFGN Architect History Presentation by Dale
DESCRIPTION:Jewish Federation of Greater Naples\nCommunity Calendar\nhttps:
 //jewishnaples.org/calendar/jfgn-architect-history-presentation-by-dale-16
 35961832\n\nJFGN\nArchitect History Presentation
DTSTART;TZID=America/New_York:20220328T120000
DTEND;TZID=America/New_York:20220328T130000
END:VEVENT
END:VCALENDAR
