BEGIN:VCALENDAR
PRODID:-//eluceo/ical//2.0/EN
VERSION:2.0
CALSCALE:GREGORIAN
BEGIN:VEVENT
UID:563e51a8ecf1cdc22d6d090665307827
DTSTAMP:20260420T063535Z
SUMMARY:JFGN Annual Meeting\, April
DESCRIPTION:Jewish Federation of Greater Naples\nCommunity Calendar\nhttps:
 //jewishnaples.org/calendar/jfgn-annual-meeting-april\n\nJewish Federation
  of Greater Naples\n\nAnnual Meeting\n\nHuman Needs Award\n\nStand Up For 
 Justice Award\n\nMCA and WCA Appreciation\n\nPlease make your reservation 
 to: rbialek@jewishnaples.org
DTSTART;TZID=America/New_York:20180410T190000
DTEND;TZID=America/New_York:20180410T210000
END:VEVENT
END:VCALENDAR
