BEGIN:VCALENDAR
PRODID:-//eluceo/ical//2.0/EN
VERSION:2.0
CALSCALE:GREGORIAN
BEGIN:VEVENT
UID:c8638514ccc67e7f98b02ae61c608be3
DTSTAMP:20260422T133019Z
SUMMARY:JFGN Annual Meeting
DESCRIPTION:Jewish Federation of Greater Naples\nCommunity Calendar\nhttps:
 //jewishnaples.org/calendar/jfgn-annual-meeting-1682021692\n\nJFGN\nAnnual
  Meeting
DTSTART;TZID=America/New_York:20240407T110000
DTEND;TZID=America/New_York:20240407T120000
END:VEVENT
END:VCALENDAR
