BEGIN:VCALENDAR
PRODID:-//eluceo/ical//2.0/EN
VERSION:2.0
CALSCALE:GREGORIAN
BEGIN:VEVENT
UID:b2997d6c174b0541f3aa1fee214bd460
DTSTAMP:20260423T233750Z
SUMMARY:JFGN Annual Meeting
DESCRIPTION:Jewish Federation of Greater Naples\nCommunity Calendar\nhttps:
 //jewishnaples.org/calendar/jfgn-annual-meeting-1620845903\n\nJewish Feder
 ation of Greater Naples\nAnnual Meeting
DTSTART;TZID=America/New_York:20220412T190000
DTEND;TZID=America/New_York:20220412T210000
END:VEVENT
END:VCALENDAR
