BEGIN:VCALENDAR
PRODID:-//eluceo/ical//2.0/EN
VERSION:2.0
CALSCALE:GREGORIAN
BEGIN:VEVENT
UID:85509f60a9828b423a69969a57b32ea6
DTSTAMP:20260424T041951Z
SUMMARY:JFGN Annual Meeting
DESCRIPTION:Jewish Federation of Greater Naples\nCommunity Calendar\nhttps:
 //jewishnaples.org/calendar/jfgn-annual-meeting-1612804158\n\nJFGN\nAnnual
  Meeting- Virtual meeting
DTSTART;TZID=America/New_York:20210413T190000
DTEND;TZID=America/New_York:20210413T210000
END:VEVENT
END:VCALENDAR
