BEGIN:VCALENDAR
PRODID:-//eluceo/ical//2.0/EN
VERSION:2.0
CALSCALE:GREGORIAN
BEGIN:VEVENT
UID:679a1747e82e8e95ae0d58437aa977cf
DTSTAMP:20260423T223330Z
SUMMARY:JFGN and CAMERA
DESCRIPTION:Jewish Federation of Greater Naples\nCommunity Calendar\nhttps:
 //jewishnaples.org/calendar/jfgn-and-camera-1689019520\n\nCAMERA and JFGN 
 co-sponsor the speaker event at the Nina Iser Jewish Cultural Center
DTSTART;TZID=America/New_York:20231130T190000
DTEND;TZID=America/New_York:20231130T200000
END:VEVENT
END:VCALENDAR
