BEGIN:VCALENDAR
PRODID:-//eluceo/ical//2.0/EN
VERSION:2.0
CALSCALE:GREGORIAN
BEGIN:VEVENT
UID:e36d56268b0b534f651618b1d25f469e
DTSTAMP:20260422T115716Z
SUMMARY:JFGN A Tree of Life Film
DESCRIPTION:Jewish Federation of Greater Naples\nCommunity Calendar\nhttps:
 //jewishnaples.org/calendar/jfgn-a-tree-of-life-film\n\nTree of Life Film
DTSTART;TZID=America/New_York:20240415T110000
DTEND;TZID=America/New_York:20240415T120000
END:VEVENT
END:VCALENDAR
